BEGIN:VCALENDAR
VERSION:2.0
PRODID:-//LAEDA - ECPv6.15.20//NONSGML v1.0//EN
CALSCALE:GREGORIAN
METHOD:PUBLISH
X-WR-CALNAME:LAEDA
X-ORIGINAL-URL:https://laeda.com
X-WR-CALDESC:Events for LAEDA
REFRESH-INTERVAL;VALUE=DURATION:PT1H
X-Robots-Tag:noindex
X-PUBLISHED-TTL:PT1H
BEGIN:VTIMEZONE
TZID:America/New_York
BEGIN:DAYLIGHT
TZOFFSETFROM:-0500
TZOFFSETTO:-0400
TZNAME:EDT
DTSTART:20250309T070000
END:DAYLIGHT
BEGIN:STANDARD
TZOFFSETFROM:-0400
TZOFFSETTO:-0500
TZNAME:EST
DTSTART:20251102T060000
END:STANDARD
BEGIN:DAYLIGHT
TZOFFSETFROM:-0500
TZOFFSETTO:-0400
TZNAME:EDT
DTSTART:20260308T070000
END:DAYLIGHT
BEGIN:STANDARD
TZOFFSETFROM:-0400
TZOFFSETTO:-0500
TZNAME:EST
DTSTART:20261101T060000
END:STANDARD
BEGIN:DAYLIGHT
TZOFFSETFROM:-0500
TZOFFSETTO:-0400
TZNAME:EDT
DTSTART:20270314T070000
END:DAYLIGHT
BEGIN:STANDARD
TZOFFSETFROM:-0400
TZOFFSETTO:-0500
TZNAME:EST
DTSTART:20271107T060000
END:STANDARD
END:VTIMEZONE
BEGIN:VEVENT
DTSTART;TZID=America/New_York:20260625T180000
DTEND;TZID=America/New_York:20260625T203000
DTSTAMP:20260421T102245
CREATED:20251202T221817Z
LAST-MODIFIED:20260330T183909Z
UID:10000275-1782410400-1782419400@laeda.com
SUMMARY:In Person: Turning Your Hobby Into a Business Series Unit 5- Business Administration & Bookkeeping
DESCRIPTION:Committing to keeping accurate records of all sales and expenses is the foundation for ensuring your business’ future success. Written transactions serve\nas a documented history of your business’ daily performance. Moreover\, these records are then combined at key moments of each year to present an overall\npicture of your business’ financial health. This session is about grounding you in these record-keeping practices and teaching you how to use your records\nas a tool to make future decisions about your business. Examples of what we cover include: teaching.\n\n•    A simple system to record your transactions\n•    How to create basic financial statements that will help you understand the health of your business\n•    How to determine sales tax collection obligation\n•    How to include business’ income & expenses on your tax return\n\n\nRemaining sessions in our multi-session course.\n\nUnit 6- Pitch Competition & Last Day\n\n  \nWe recommend that you attend all 6 seminars in the series to gain the most benefit. Those who attend at least 4 out of 6 seminars will receive \na Certificate of Completion and be eligible for a group business counseling in week 6\, which will lead to opportunities for 1 on 1 counseling.\n\n\n\n\n\n\n\n\n\n\n\n\n\n\nRegister Today!
URL:https://laeda.com/event/in-person-turning-your-hobby-into-a-business-series-unit-5-business-administration-bookkeeping-4/
LOCATION:LAEDA Business Education Center\, 433 Market Street\, Camden\, NJ\, 08102\, United States
CATEGORIES:Multi-Unit Series
ATTACH;FMTTYPE=image/png:https://laeda.com/wp-content/uploads/2025/12/THB-Unit-5-Business-Admin-Bookkeeping-e1764713882382.png
GEO:39.9459715;-75.1211984
X-APPLE-STRUCTURED-LOCATION;VALUE=URI;X-ADDRESS=LAEDA Business Education Center 433 Market Street Camden NJ 08102 United States;X-APPLE-RADIUS=500;X-TITLE=433 Market Street:geo:-75.1211984,39.9459715
END:VEVENT
END:VCALENDAR