BEGIN:VCALENDAR
VERSION:2.0
PRODID:-//LAEDA - ECPv6.15.20//NONSGML v1.0//EN
CALSCALE:GREGORIAN
METHOD:PUBLISH
X-ORIGINAL-URL:https://laeda.com
X-WR-CALDESC:Events for LAEDA
REFRESH-INTERVAL;VALUE=DURATION:PT1H
X-Robots-Tag:noindex
X-PUBLISHED-TTL:PT1H
BEGIN:VTIMEZONE
TZID:America/New_York
BEGIN:DAYLIGHT
TZOFFSETFROM:-0500
TZOFFSETTO:-0400
TZNAME:EDT
DTSTART:20250309T070000
END:DAYLIGHT
BEGIN:STANDARD
TZOFFSETFROM:-0400
TZOFFSETTO:-0500
TZNAME:EST
DTSTART:20251102T060000
END:STANDARD
BEGIN:DAYLIGHT
TZOFFSETFROM:-0500
TZOFFSETTO:-0400
TZNAME:EDT
DTSTART:20260308T070000
END:DAYLIGHT
BEGIN:STANDARD
TZOFFSETFROM:-0400
TZOFFSETTO:-0500
TZNAME:EST
DTSTART:20261101T060000
END:STANDARD
BEGIN:DAYLIGHT
TZOFFSETFROM:-0500
TZOFFSETTO:-0400
TZNAME:EDT
DTSTART:20270314T070000
END:DAYLIGHT
BEGIN:STANDARD
TZOFFSETFROM:-0400
TZOFFSETTO:-0500
TZNAME:EST
DTSTART:20271107T060000
END:STANDARD
END:VTIMEZONE
BEGIN:VEVENT
DTSTART;TZID=America/New_York:20260604T180000
DTEND;TZID=America/New_York:20260604T203000
DTSTAMP:20260421T102559
CREATED:20251202T215414Z
LAST-MODIFIED:20260330T183101Z
UID:10000271-1780596000-1780605000@laeda.com
SUMMARY:In Person: Turning Your Hobby Into a Business Series Unit 2-Understanding the Power of Marketing
DESCRIPTION:Session Two is all about identifying who your best customers are and how to reach them so they buy from you instead of your competition. Don’t worry if you\nhaven’t had any sales yet. In this session\, we’ll learn about\n\n•     Identifying your target customer and why this is so important\n•     Where and how to find this target customer\n•     Why it’s important to know that advertising and promotion are NOT the same as marketing\n•     How customers are not only a source of income but of information as well\n\nRemaining sessions in our multi-session course.\n\nUnit 3- Sales Channels for the Side Hustle Business\n\nUnit 4- Money\, Banking & Credit\nUnit 5- Business Administration & Bookkeeping\nUnit 6- Pitch Competition & Last Day\n\nWe recommend that you attend all 6 seminars in the series to gain the most benefit. Those who attend at least 4 out of 6 seminars will receive a Certificate of\n\n\nCompletion and be eligible for a group business counseling in week 6\, which will lead to opportunities for 1 on 1 counseling. \n\n\n\n\n\n\n\n\n\n\n\n\n\n\n\n\nRegister Today!
URL:https://laeda.com/event/in-person-turning-your-hobby-into-a-business-series-unit-2-understanding-the-power-of-marketing-4/
LOCATION:LAEDA Business Education Center\, 433 Market Street\, Camden\, NJ\, 08102\, United States
CATEGORIES:Multi-Unit Series
ATTACH;FMTTYPE=image/png:https://laeda.com/wp-content/uploads/2025/12/THB-Unit-2-Marketing-e1764712445361.png
GEO:39.9459715;-75.1211984
X-APPLE-STRUCTURED-LOCATION;VALUE=URI;X-ADDRESS=LAEDA Business Education Center 433 Market Street Camden NJ 08102 United States;X-APPLE-RADIUS=500;X-TITLE=433 Market Street:geo:-75.1211984,39.9459715
END:VEVENT
END:VCALENDAR