BEGIN:VCALENDAR
VERSION:2.0
PRODID:-//LAEDA - ECPv6.15.20//NONSGML v1.0//EN
CALSCALE:GREGORIAN
METHOD:PUBLISH
X-WR-CALNAME:LAEDA
X-ORIGINAL-URL:https://laeda.com
X-WR-CALDESC:Events for LAEDA
REFRESH-INTERVAL;VALUE=DURATION:PT1H
X-Robots-Tag:noindex
X-PUBLISHED-TTL:PT1H
BEGIN:VTIMEZONE
TZID:America/New_York
BEGIN:DAYLIGHT
TZOFFSETFROM:-0500
TZOFFSETTO:-0400
TZNAME:EDT
DTSTART:20250309T070000
END:DAYLIGHT
BEGIN:STANDARD
TZOFFSETFROM:-0400
TZOFFSETTO:-0500
TZNAME:EST
DTSTART:20251102T060000
END:STANDARD
BEGIN:DAYLIGHT
TZOFFSETFROM:-0500
TZOFFSETTO:-0400
TZNAME:EDT
DTSTART:20260308T070000
END:DAYLIGHT
BEGIN:STANDARD
TZOFFSETFROM:-0400
TZOFFSETTO:-0500
TZNAME:EST
DTSTART:20261101T060000
END:STANDARD
BEGIN:DAYLIGHT
TZOFFSETFROM:-0500
TZOFFSETTO:-0400
TZNAME:EDT
DTSTART:20270314T070000
END:DAYLIGHT
BEGIN:STANDARD
TZOFFSETFROM:-0400
TZOFFSETTO:-0500
TZNAME:EST
DTSTART:20271107T060000
END:STANDARD
END:VTIMEZONE
BEGIN:VEVENT
DTSTART;TZID=America/New_York:20260505T180000
DTEND;TZID=America/New_York:20260505T200000
DTSTAMP:20260421T091306
CREATED:20260409T130508Z
LAST-MODIFIED:20260409T130932Z
UID:10000305-1778004000-1778011200@laeda.com
SUMMARY:Virtual Series: DreamBuilder Small Business Cohort: Unit 2-Marketing & Branding
DESCRIPTION:Course Overview: \nReady to start and/ or grow your business? Now is the time! Join our 7-week DreamBuilder cohort for an interactive\, in-depth series of workshops covering a wide range of topics. During the cohort\, participants will develop a fully functional business plan\, all guided by an expert business consultant! Presented by LAEDA WBC and Lucero Consulting Group. \nThose who attend 5 out of 7 sessions will be eligible for a certificate and one on one business counseling. \n\n\n\n\n\n\n\n\n\n\n\n\n\n\nRegister Today!
URL:https://laeda.com/event/virtual-series-dreambuilder-small-business-cohort-unit-2-marketing-branding/
LOCATION:Virtual Online
CATEGORIES:Multi-Unit Series
ATTACH;FMTTYPE=image/png:https://laeda.com/wp-content/uploads/2026/04/unnamed-512x400-1.png
END:VEVENT
END:VCALENDAR