BEGIN:VCALENDAR
VERSION:2.0
PRODID:-//LAEDA - ECPv6.15.20//NONSGML v1.0//EN
CALSCALE:GREGORIAN
METHOD:PUBLISH
X-ORIGINAL-URL:https://laeda.com
X-WR-CALDESC:Events for LAEDA
REFRESH-INTERVAL;VALUE=DURATION:PT1H
X-Robots-Tag:noindex
X-PUBLISHED-TTL:PT1H
BEGIN:VTIMEZONE
TZID:America/New_York
BEGIN:DAYLIGHT
TZOFFSETFROM:-0500
TZOFFSETTO:-0400
TZNAME:EDT
DTSTART:20250309T070000
END:DAYLIGHT
BEGIN:STANDARD
TZOFFSETFROM:-0400
TZOFFSETTO:-0500
TZNAME:EST
DTSTART:20251102T060000
END:STANDARD
BEGIN:DAYLIGHT
TZOFFSETFROM:-0500
TZOFFSETTO:-0400
TZNAME:EDT
DTSTART:20260308T070000
END:DAYLIGHT
BEGIN:STANDARD
TZOFFSETFROM:-0400
TZOFFSETTO:-0500
TZNAME:EST
DTSTART:20261101T060000
END:STANDARD
BEGIN:DAYLIGHT
TZOFFSETFROM:-0500
TZOFFSETTO:-0400
TZNAME:EDT
DTSTART:20270314T070000
END:DAYLIGHT
BEGIN:STANDARD
TZOFFSETFROM:-0400
TZOFFSETTO:-0500
TZNAME:EST
DTSTART:20271107T060000
END:STANDARD
END:VTIMEZONE
BEGIN:VEVENT
DTSTART;TZID=America/New_York:20260324T180000
DTEND;TZID=America/New_York:20260324T203000
DTSTAMP:20260421T091609
CREATED:20251202T173243Z
LAST-MODIFIED:20260202T192821Z
UID:10000267-1774375200-1774384200@laeda.com
SUMMARY:Virtual Series: Quick Start Series Night 4: Getting the Word Out- Marketing Your Business
DESCRIPTION:Unit 4 of the Quick Start Series is focused on understanding your customer and how your product or services meets their needs. Are your marketing efforts\ncommunicating your message to your customers? Are you even fishing in the right pond? Marketing Your Business takes you through the basics of marketing\,\ndeveloping a marketing message and creating a marketing plan that will attract the customers you really want.\nDuring this seminar you’ll learn: \n•The importance of a Marketing Plan\n•Best practices to identifying your target market and ideal client\n•How to communicate the features and benefits of your products and services and much more\n\n\nRemaining sessions in our multi-session course\nUnit 5- Credit Management for Entrepreneurs & Certificates\n\n\nWe recommend that you attend all 5 seminars in the series to gain the most benefit. Those who attend at least 3 of 5 seminars will receive a Certificate of\nCompletion and be eligible for a group business counseling in week 6\, which will lead to opportunities for 1 on 1 counseling.\n\n\n\n\n\n\n\n\n\n\n\n\n\n\n\n\n\n\n\n\n\n\nRegistration is closed.
URL:https://laeda.com/event/virtual-series-quick-start-series-night-4-getting-the-word-out-marketing-your-business-4/
LOCATION:Virtual Online
CATEGORIES:Multi-Unit Series
ATTACH;FMTTYPE=image/png:https://laeda.com/wp-content/uploads/2025/12/Marketing-QSS-Unit-4-e1764696753121.png
END:VEVENT
END:VCALENDAR