BEGIN:VCALENDAR
VERSION:2.0
PRODID:-//LAEDA - ECPv6.15.20//NONSGML v1.0//EN
CALSCALE:GREGORIAN
METHOD:PUBLISH
X-ORIGINAL-URL:https://laeda.com
X-WR-CALDESC:Events for LAEDA
REFRESH-INTERVAL;VALUE=DURATION:PT1H
X-Robots-Tag:noindex
X-PUBLISHED-TTL:PT1H
BEGIN:VTIMEZONE
TZID:America/New_York
BEGIN:DAYLIGHT
TZOFFSETFROM:-0500
TZOFFSETTO:-0400
TZNAME:EDT
DTSTART:20250309T070000
END:DAYLIGHT
BEGIN:STANDARD
TZOFFSETFROM:-0400
TZOFFSETTO:-0500
TZNAME:EST
DTSTART:20251102T060000
END:STANDARD
BEGIN:DAYLIGHT
TZOFFSETFROM:-0500
TZOFFSETTO:-0400
TZNAME:EDT
DTSTART:20260308T070000
END:DAYLIGHT
BEGIN:STANDARD
TZOFFSETFROM:-0400
TZOFFSETTO:-0500
TZNAME:EST
DTSTART:20261101T060000
END:STANDARD
BEGIN:DAYLIGHT
TZOFFSETFROM:-0500
TZOFFSETTO:-0400
TZNAME:EDT
DTSTART:20270314T070000
END:DAYLIGHT
BEGIN:STANDARD
TZOFFSETFROM:-0400
TZOFFSETTO:-0500
TZNAME:EST
DTSTART:20271107T060000
END:STANDARD
END:VTIMEZONE
BEGIN:VEVENT
DTSTART;TZID=America/New_York:20260317T180000
DTEND;TZID=America/New_York:20260317T203000
DTSTAMP:20260421T091513
CREATED:20251202T171346Z
LAST-MODIFIED:20260202T192308Z
UID:10000266-1773770400-1773779400@laeda.com
SUMMARY:Virtual Series: Quick Start Series Night 3: Creating a Plan of Action- Business Plan II
DESCRIPTION:Unit 3 of the Quick Start Series continues the conversation around creating a business plan.  We will continuing covering the business plan -Creating a Plan of Action-\nBusiness Plan II.  What are your true operating costs\, what are you really selling\, do you have a personnel plan?  You’ll be amazed by what you’ll learn about your\nbusiness by answering these questions and more. This workshop takes you through the business plan and what you need to know about your business to be successful.\nDuring this seminar you’ll learn: \n•The importance of a business plan\n•How to set short-term and long-term goals\n•Key questions to answer to get a solid grip on your business\n\n\nRemaining sessions in our multi-session course\nUnit 4- Getting the Word Out – Marketing Your Business\nUnit 5- Credit Management for Entrepreneurs & Certificates\n\n\nWe recommend that you attend all 5 seminars in the series to gain the most benefit. Those who attend at least 3 of 5 seminars will receive a Certificate of Completion\nand be eligible for a group business counseling in week 6\, which will lead to opportunities for 1 on 1 counseling.\n\n\n\n\n\n\n\n\n\n\n\n\n\n\n\n\n\n\n\n\n\n\nRegister Now!
URL:https://laeda.com/event/virtual-series-quick-start-series-night-3-creating-a-plan-of-action-business-plan-ii-4/
LOCATION:Virtual Online
CATEGORIES:Multi-Unit Series
ATTACH;FMTTYPE=image/png:https://laeda.com/wp-content/uploads/2025/12/Creating-a-Plan-of-Action-Nights-2-3-QSS-e1768589785169.png
END:VEVENT
END:VCALENDAR