BEGIN:VCALENDAR
VERSION:2.0
PRODID:-//LAEDA - ECPv6.15.20//NONSGML v1.0//EN
CALSCALE:GREGORIAN
METHOD:PUBLISH
X-ORIGINAL-URL:https://laeda.com
X-WR-CALDESC:Events for LAEDA
REFRESH-INTERVAL;VALUE=DURATION:PT1H
X-Robots-Tag:noindex
X-PUBLISHED-TTL:PT1H
BEGIN:VTIMEZONE
TZID:America/New_York
BEGIN:DAYLIGHT
TZOFFSETFROM:-0500
TZOFFSETTO:-0400
TZNAME:EDT
DTSTART:20250309T070000
END:DAYLIGHT
BEGIN:STANDARD
TZOFFSETFROM:-0400
TZOFFSETTO:-0500
TZNAME:EST
DTSTART:20251102T060000
END:STANDARD
BEGIN:DAYLIGHT
TZOFFSETFROM:-0500
TZOFFSETTO:-0400
TZNAME:EDT
DTSTART:20260308T070000
END:DAYLIGHT
BEGIN:STANDARD
TZOFFSETFROM:-0400
TZOFFSETTO:-0500
TZNAME:EST
DTSTART:20261101T060000
END:STANDARD
BEGIN:DAYLIGHT
TZOFFSETFROM:-0500
TZOFFSETTO:-0400
TZNAME:EDT
DTSTART:20270314T070000
END:DAYLIGHT
BEGIN:STANDARD
TZOFFSETFROM:-0400
TZOFFSETTO:-0500
TZNAME:EST
DTSTART:20271107T060000
END:STANDARD
END:VTIMEZONE
BEGIN:VEVENT
DTSTART;TZID=America/New_York:20260303T180000
DTEND;TZID=America/New_York:20260303T203000
DTSTAMP:20260421T091642
CREATED:20251202T164124Z
LAST-MODIFIED:20260202T192006Z
UID:10000264-1772560800-1772569800@laeda.com
SUMMARY:Virtual Series: Quick Start Series Night 1: ABC’s of Starting a Small Business
DESCRIPTION:The LAEDA Quick Start Series is a 5-part series that provides a great opportunity for individuals who wish to learn how to start a business and for more experienced\nbusiness owners wishing to learn best practices in operating a business. Topics included in the series: Writing a Business Plan\, Marketing Your Business and\nCredit Management. This event is free but you will need to register for all 5 classes.\nOur first night\, we will cover The ABC’s of Starting a Small Business. During this seminar you’ll learn the ins and outs of starting and operating a small business\, the\nchallenges you’ll face and the resources available to help you get started and grow!\n\nTopics Covered Will Include:\n•How to Start or Organize a Business Legally\n•Practical Steps for Launching or Growing a Business\n•Why a Business Plan is the Key to Success\n\n•What it Takes to Secure a Business Loan \n\nRemaining sessions in our multi-session course\nUnit 2- Creating a Plan of Action – Business Plan I\nUnit 3- Creating a Plan of Action – Business Plan II\nUnit 4- Getting the Word Out – Marketing Your Business\nUnit 5- Credit Management for Entrepreneurs & Certificates\nWe recommend that you attend all 5 seminars in the series to gain the most benefit. Those who attend at least 3 of 5 seminars will receive a Certificate of Completion\nand be eligible for a group business counseling in week 6\, which will lead to opportunities for 1 on 1 counseling.\n\n\n\n\n\n\n\n\n\n\n\n\n\n\nRegister Now!
URL:https://laeda.com/event/virtual-series-quick-start-series-night-1-abcs-of-starting-a-small-business-4/
LOCATION:Virtual Online
CATEGORIES:Multi-Unit Series
ATTACH;FMTTYPE=image/png:https://laeda.com/wp-content/uploads/2025/12/ABCs-of-Starting-a-Small-Business-QSS-Unit-1-2-e1764693652616.png
END:VEVENT
END:VCALENDAR