BEGIN:VCALENDAR
VERSION:2.0
PRODID:-//LAEDA - ECPv6.15.20//NONSGML v1.0//EN
CALSCALE:GREGORIAN
METHOD:PUBLISH
X-ORIGINAL-URL:https://laeda.com
X-WR-CALDESC:Events for LAEDA
REFRESH-INTERVAL;VALUE=DURATION:PT1H
X-Robots-Tag:noindex
X-PUBLISHED-TTL:PT1H
BEGIN:VTIMEZONE
TZID:America/New_York
BEGIN:DAYLIGHT
TZOFFSETFROM:-0500
TZOFFSETTO:-0400
TZNAME:EDT
DTSTART:20240310T070000
END:DAYLIGHT
BEGIN:STANDARD
TZOFFSETFROM:-0400
TZOFFSETTO:-0500
TZNAME:EST
DTSTART:20241103T060000
END:STANDARD
BEGIN:DAYLIGHT
TZOFFSETFROM:-0500
TZOFFSETTO:-0400
TZNAME:EDT
DTSTART:20250309T070000
END:DAYLIGHT
BEGIN:STANDARD
TZOFFSETFROM:-0400
TZOFFSETTO:-0500
TZNAME:EST
DTSTART:20251102T060000
END:STANDARD
BEGIN:DAYLIGHT
TZOFFSETFROM:-0500
TZOFFSETTO:-0400
TZNAME:EDT
DTSTART:20260308T070000
END:DAYLIGHT
BEGIN:STANDARD
TZOFFSETFROM:-0400
TZOFFSETTO:-0500
TZNAME:EST
DTSTART:20261101T060000
END:STANDARD
END:VTIMEZONE
BEGIN:VEVENT
DTSTART;TZID=America/New_York:20250610T180000
DTEND;TZID=America/New_York:20250610T203000
DTSTAMP:20260421T204052
CREATED:20250326T151736Z
LAST-MODIFIED:20250605T192233Z
UID:10000202-1749578400-1749587400@laeda.com
SUMMARY:Virtual Series: Quick Start Series Night 5: Credit Management for Entrepreneurs & Certificates
DESCRIPTION:Unit 5 of the Quick Start Series focuses on the role personal credit plays in starting and growing a business.  Having good credit can mean the difference between success or failure for a business. Without it you can’t sign a lease\, get terms with your suppliers and of course get a loan. \nDuring this seminar you’ll learn: \n•How your FICO score is calculated\n•What “events” affect your credit\n•Strategies you can use today to start fixing your credit\n\n\n\n\n\n\n\nFor those who have attended at least 3 of the 5 units of the Quick Start Series\, LAEDA will present them with a Certificate of Completion. \n\n\n\n\n\n\n\n\n\n\n\n\n\n\n\n\n\n\n\n\n\n\n\n\n\n\n\n\n\n\n\n\n\n\n\n\n\n\n\n\n\n\n\n\n\nRegister Today!
URL:https://laeda.com/event/virtual-series-quick-start-series-night-5-credit-management-for-entrepreneurs-certificates-2/
LOCATION:Virtual Online
CATEGORIES:Multi-Unit Series
ATTACH;FMTTYPE=image/png:https://laeda.com/wp-content/uploads/2025/03/QSS-Credit-Management-Night-5-e1746107085243.png
END:VEVENT
END:VCALENDAR