BEGIN:VCALENDAR
VERSION:2.0
PRODID:-//LAEDA - ECPv6.15.20//NONSGML v1.0//EN
CALSCALE:GREGORIAN
METHOD:PUBLISH
X-ORIGINAL-URL:https://laeda.com
X-WR-CALDESC:Events for LAEDA
REFRESH-INTERVAL;VALUE=DURATION:PT1H
X-Robots-Tag:noindex
X-PUBLISHED-TTL:PT1H
BEGIN:VTIMEZONE
TZID:America/New_York
BEGIN:DAYLIGHT
TZOFFSETFROM:-0500
TZOFFSETTO:-0400
TZNAME:EDT
DTSTART:20250309T070000
END:DAYLIGHT
BEGIN:STANDARD
TZOFFSETFROM:-0400
TZOFFSETTO:-0500
TZNAME:EST
DTSTART:20251102T060000
END:STANDARD
BEGIN:DAYLIGHT
TZOFFSETFROM:-0500
TZOFFSETTO:-0400
TZNAME:EDT
DTSTART:20260308T070000
END:DAYLIGHT
BEGIN:STANDARD
TZOFFSETFROM:-0400
TZOFFSETTO:-0500
TZNAME:EST
DTSTART:20261101T060000
END:STANDARD
BEGIN:DAYLIGHT
TZOFFSETFROM:-0500
TZOFFSETTO:-0400
TZNAME:EDT
DTSTART:20270314T070000
END:DAYLIGHT
BEGIN:STANDARD
TZOFFSETFROM:-0400
TZOFFSETTO:-0500
TZNAME:EST
DTSTART:20271107T060000
END:STANDARD
END:VTIMEZONE
BEGIN:VEVENT
DTSTART;TZID=America/New_York:20260505T180000
DTEND;TZID=America/New_York:20260505T200000
DTSTAMP:20260421T075634
CREATED:20260409T130508Z
LAST-MODIFIED:20260409T130932Z
UID:10000305-1778004000-1778011200@laeda.com
SUMMARY:Virtual Series: DreamBuilder Small Business Cohort: Unit 2-Marketing & Branding
DESCRIPTION:Course Overview: \nReady to start and/ or grow your business? Now is the time! Join our 7-week DreamBuilder cohort for an interactive\, in-depth series of workshops covering a wide range of topics. During the cohort\, participants will develop a fully functional business plan\, all guided by an expert business consultant! Presented by LAEDA WBC and Lucero Consulting Group. \nThose who attend 5 out of 7 sessions will be eligible for a certificate and one on one business counseling. \n\n\n\n\n\n\n\n\n\n\n\n\n\n\nRegister Today!
URL:https://laeda.com/event/virtual-series-dreambuilder-small-business-cohort-unit-2-marketing-branding/
LOCATION:Virtual Online
CATEGORIES:Multi-Unit Series
ATTACH;FMTTYPE=image/png:https://laeda.com/wp-content/uploads/2026/04/unnamed-512x400-1.png
END:VEVENT
BEGIN:VEVENT
DTSTART;TZID=America/New_York:20260512T180000
DTEND;TZID=America/New_York:20260512T200000
DTSTAMP:20260421T075634
CREATED:20260409T131241Z
LAST-MODIFIED:20260409T131415Z
UID:10000306-1778608800-1778616000@laeda.com
SUMMARY:Virtual Series: DreamBuilder Small Business Cohort: Unit 3-Setting Your Price
DESCRIPTION:Course Overview: \nReady to start and/ or grow your business? Now is the time! Join our 7-week DreamBuilder cohort for an interactive\, in-depth series of workshops covering a wide range of topics. During the cohort\, participants will develop a fully functional business plan\, all guided by an expert business consultant! Presented by LAEDA WBC and Lucero Consulting Group. \nThose who attend 5 out of 7 sessions will be eligible for a certificate and one on one business counseling. \n\n\n\n\n\n\n\n\n\n\n\n\n\n\nRegister Today!
URL:https://laeda.com/event/virtual-series-dreambuilder-small-business-cohort-unit-3-setting-your-price/
LOCATION:Virtual Online
CATEGORIES:Multi-Unit Series
ATTACH;FMTTYPE=image/png:https://laeda.com/wp-content/uploads/2026/04/unnamed-512x400-1.png
END:VEVENT
BEGIN:VEVENT
DTSTART;TZID=America/New_York:20260519T180000
DTEND;TZID=America/New_York:20260519T200000
DTSTAMP:20260421T075634
CREATED:20260409T131848Z
LAST-MODIFIED:20260409T131848Z
UID:10000307-1779213600-1779220800@laeda.com
SUMMARY:Virtual Series: DreamBuilder Small Business Cohort: Unit 4-Financials and Human Resources
DESCRIPTION:Course Overview: \nReady to start and/ or grow your business? Now is the time! Join our 7-week DreamBuilder cohort for an interactive\, in-depth series of workshops covering a wide range of topics. During the cohort\, participants will develop a fully functional business plan\, all guided by an expert business consultant! Presented by LAEDA WBC and Lucero Consulting Group. \nThose who attend 5 out of 7 sessions will be eligible for a certificate and one on one business counseling. \n\n\n\n\n\n\n\n\n\n\n\n\n\n\nRegister Today!
URL:https://laeda.com/event/virtual-series-dreambuilder-small-business-cohort-unit-4-financials-and-human-resources/
LOCATION:Virtual Online
CATEGORIES:Multi-Unit Series
ATTACH;FMTTYPE=image/png:https://laeda.com/wp-content/uploads/2026/04/unnamed-512x400-1.png
END:VEVENT
BEGIN:VEVENT
DTSTART;TZID=America/New_York:20260526T180000
DTEND;TZID=America/New_York:20260526T200000
DTSTAMP:20260421T075634
CREATED:20260409T132140Z
LAST-MODIFIED:20260409T132140Z
UID:10000308-1779818400-1779825600@laeda.com
SUMMARY:Virtual Series: DreamBuilder Small Business Cohort: Unit 5-Access to Capital
DESCRIPTION:Course Overview: \nReady to start and/ or grow your business? Now is the time! Join our 7-week DreamBuilder cohort for an interactive\, in-depth series of workshops covering a wide range of topics. During the cohort\, participants will develop a fully functional business plan\, all guided by an expert business consultant! Presented by LAEDA WBC and Lucero Consulting Group. \nThose who attend 5 out of 7 sessions will be eligible for a certificate and one on one business counseling. \n\n\n\n\n\n\n\n\n\n\n\n\n\n\nRegister Today!
URL:https://laeda.com/event/virtual-series-dreambuilder-small-business-cohort-unit-5-access-to-capital/
LOCATION:Virtual Online
CATEGORIES:Multi-Unit Series
ATTACH;FMTTYPE=image/png:https://laeda.com/wp-content/uploads/2026/04/unnamed-512x400-1.png
END:VEVENT
BEGIN:VEVENT
DTSTART;TZID=America/New_York:20260528T180000
DTEND;TZID=America/New_York:20260528T203000
DTSTAMP:20260421T075634
CREATED:20251202T212711Z
LAST-MODIFIED:20260331T215615Z
UID:10000270-1779991200-1780000200@laeda.com
SUMMARY:In Person: Turning Your Hobby Into a Business Series Unit 1- Intro- Product Development and Production Process
DESCRIPTION:The pathway from “creating for fun” to “creating for business” is anything but straightforward\, but LAEDA is here to help you navigate the swerves and curves. \nOne part of the journey is transitioning from designing & creating for friends to producing for customers beyond your inner circle. \n\nDo you have a product or service that would be in demand\nIs your production process scalable as you get more orders\nHow do you make sure each product looks the same or that each service is delivered at the same level of quality EVERY TIME?\n\nWe will cover each of these questions and more in this first session of our multi-session course.\nSessions in this series: \nUnit 1- Intro-Product Development and Production Process\nUnit 2- Understanding the Power of Marketing\nUnit 3- Sales Channels for the Side Hustle Business\nUnit 4- Money\, Banking & Credit\nUnit 5- Business Administration & Bookkeeping\nUnit 6- Pitch Competition & Last Day\nWe recommend that you attend all 6 seminars in the series to gain the most benefit. Those who attend at least 4 out of 6 seminars will receive a Certificate of\nCompletion and be eligible for a group business counseling in week 6\, which will lead to opportunities for 1 on 1 counseling.\n  \n\n\n\n\n\n\n\n\n\n\n\n\n\n\nRegister Today!
URL:https://laeda.com/event/in-person-turning-your-hobby-into-a-business-series-unit-1-intro-product-development-and-production-process-4/
LOCATION:LAEDA Business Education Center\, 433 Market Street\, Camden\, NJ\, 08102\, United States
CATEGORIES:Multi-Unit Series
ATTACH;FMTTYPE=image/png:https://laeda.com/wp-content/uploads/2025/12/THB-Unit-1-Product-Production-Process-image-e1764710821694.png
GEO:39.9459715;-75.1211984
X-APPLE-STRUCTURED-LOCATION;VALUE=URI;X-ADDRESS=LAEDA Business Education Center 433 Market Street Camden NJ 08102 United States;X-APPLE-RADIUS=500;X-TITLE=433 Market Street:geo:-75.1211984,39.9459715
END:VEVENT
END:VCALENDAR