BEGIN:VCALENDAR
VERSION:2.0
PRODID:-//LAEDA - ECPv6.15.20//NONSGML v1.0//EN
CALSCALE:GREGORIAN
METHOD:PUBLISH
X-ORIGINAL-URL:https://laeda.com
X-WR-CALDESC:Events for LAEDA
REFRESH-INTERVAL;VALUE=DURATION:PT1H
X-Robots-Tag:noindex
X-PUBLISHED-TTL:PT1H
BEGIN:VTIMEZONE
TZID:America/New_York
BEGIN:DAYLIGHT
TZOFFSETFROM:-0500
TZOFFSETTO:-0400
TZNAME:EDT
DTSTART:20240310T070000
END:DAYLIGHT
BEGIN:STANDARD
TZOFFSETFROM:-0400
TZOFFSETTO:-0500
TZNAME:EST
DTSTART:20241103T060000
END:STANDARD
BEGIN:DAYLIGHT
TZOFFSETFROM:-0500
TZOFFSETTO:-0400
TZNAME:EDT
DTSTART:20250309T070000
END:DAYLIGHT
BEGIN:STANDARD
TZOFFSETFROM:-0400
TZOFFSETTO:-0500
TZNAME:EST
DTSTART:20251102T060000
END:STANDARD
BEGIN:DAYLIGHT
TZOFFSETFROM:-0500
TZOFFSETTO:-0400
TZNAME:EDT
DTSTART:20260308T070000
END:DAYLIGHT
BEGIN:STANDARD
TZOFFSETFROM:-0400
TZOFFSETTO:-0500
TZNAME:EST
DTSTART:20261101T060000
END:STANDARD
END:VTIMEZONE
BEGIN:VEVENT
DTSTART;TZID=America/New_York:20250603T180000
DTEND;TZID=America/New_York:20250603T203000
DTSTAMP:20260421T192040
CREATED:20250326T150143Z
LAST-MODIFIED:20250514T205202Z
UID:10000201-1748973600-1748982600@laeda.com
SUMMARY:Virtual Series: Quick Start Series Night 4: Getting the Word Out- Marketing Your Business
DESCRIPTION:Unit 4 of the Quick Start Series is focused on understanding your customer and how your product or services meets their needs. Are your marketing efforts communicating your message to your customers? Are you even fishing in the right pond? Marketing Your Business takes you through the basics of marketing\, developing a marketing message and creating a marketing plan that will attract the customers you really want. \nDuring this seminar you’ll learn: \n•The importance of a Marketing Plan\n•Best practices to identifying your target market and ideal client\n•How to communicate the features and benefits of your products and services and much more\n\n\nRemaining sessions in our multi-session course\nUnit 5- Credit Management for Entrepreneurs & Certificates\n\n\n\n\n\n\n\n\n\nWe recommend that you attend all 5 seminars in the series to gain the most benefit. Those who attend at least 3 of 5 seminars will receive a Certificate of Completion. \n\n\n\n\n\n\n\n\n\n\n\n\n\n\n\n\n\n\n\n\n\n\n\n\n\n\n\n\n\n\n\n\n\n\nRegister Today!
URL:https://laeda.com/event/virtual-series-quick-start-series-night-4-getting-the-word-out-marketing-your-business-2/
LOCATION:Virtual Online
CATEGORIES:Multi-Unit Series
ATTACH;FMTTYPE=image/png:https://laeda.com/wp-content/uploads/2025/03/QSS-Night-4-Marketing-e1746107599538.png
END:VEVENT
BEGIN:VEVENT
DTSTART;TZID=America/New_York:20250610T180000
DTEND;TZID=America/New_York:20250610T203000
DTSTAMP:20260421T192040
CREATED:20250326T151736Z
LAST-MODIFIED:20250605T192233Z
UID:10000202-1749578400-1749587400@laeda.com
SUMMARY:Virtual Series: Quick Start Series Night 5: Credit Management for Entrepreneurs & Certificates
DESCRIPTION:Unit 5 of the Quick Start Series focuses on the role personal credit plays in starting and growing a business.  Having good credit can mean the difference between success or failure for a business. Without it you can’t sign a lease\, get terms with your suppliers and of course get a loan. \nDuring this seminar you’ll learn: \n•How your FICO score is calculated\n•What “events” affect your credit\n•Strategies you can use today to start fixing your credit\n\n\n\n\n\n\n\nFor those who have attended at least 3 of the 5 units of the Quick Start Series\, LAEDA will present them with a Certificate of Completion. \n\n\n\n\n\n\n\n\n\n\n\n\n\n\n\n\n\n\n\n\n\n\n\n\n\n\n\n\n\n\n\n\n\n\n\n\n\n\n\n\n\n\n\n\n\nRegister Today!
URL:https://laeda.com/event/virtual-series-quick-start-series-night-5-credit-management-for-entrepreneurs-certificates-2/
LOCATION:Virtual Online
CATEGORIES:Multi-Unit Series
ATTACH;FMTTYPE=image/png:https://laeda.com/wp-content/uploads/2025/03/QSS-Credit-Management-Night-5-e1746107085243.png
END:VEVENT
BEGIN:VEVENT
DTSTART;TZID=America/New_York:20250624T180000
DTEND;TZID=America/New_York:20250624T203000
DTSTAMP:20260421T192040
CREATED:20250407T193513Z
LAST-MODIFIED:20250812T202258Z
UID:10000205-1750788000-1750797000@laeda.com
SUMMARY:In Person: Turning Your Hobby Into a Business Series Unit 1- Intro- Product Development and Production Process
DESCRIPTION:The pathway from “creating for fun” to “creating for business” is anything but straightforward\, but LAEDA is here to help you navigate the swerves and curves. \nOne part of the journey is transitioning from designing & creating for friends to producing for customers beyond your inner circle. \n\nDo you have a product or service that would be in demand\nIs your production process scalable as you get more orders\nHow do you make sure each product looks the same or that each service is delivered at the same level of quality EVERY TIME?\n\nWe will cover each of these questions and more in this first session of our multi-session course.\nSessions in this series: \nUnit 1- Intro-Product Development and Production Process\nUnit 2- Understanding the Power of Marketing\nUnit 3- Sales Channels for the Side Hustle Business\nUnit 4- Money\, Banking & Credit\nUnit 5- Business Administration & Bookkeeping\nUnit 6- Pitch Competition & Last Day\nWe recommend that you attend all 6 seminars in the series to gain the most benefit. Those who attend at least 4 out of 6 seminars will receive a Certificate of\nCompletion.\n  \n\n\n\n\n\n\n\n\n\n\n\n\n\n\nRegister Today!
URL:https://laeda.com/event/in-person-turning-your-hobby-into-a-business-series-unit-1-intro-product-development-and-production-process-2/
LOCATION:LAEDA Business Education Center\, 433 Market Street\, Camden\, NJ\, 08102\, United States
CATEGORIES:Multi-Unit Series
ATTACH;FMTTYPE=image/png:https://laeda.com/wp-content/uploads/2025/04/THB-Unit-1-Product-Development-6-26-2025-e1744054504115.png
GEO:39.9459715;-75.1211984
X-APPLE-STRUCTURED-LOCATION;VALUE=URI;X-ADDRESS=LAEDA Business Education Center 433 Market Street Camden NJ 08102 United States;X-APPLE-RADIUS=500;X-TITLE=433 Market Street:geo:-75.1211984,39.9459715
END:VEVENT
BEGIN:VEVENT
DTSTART;TZID=America/New_York:20250626T180000
DTEND;TZID=America/New_York:20250626T200000
DTSTAMP:20260421T192040
CREATED:20250307T212904Z
LAST-MODIFIED:20250409T153547Z
UID:10000194-1750960800-1750968000@laeda.com
SUMMARY:In-Person: Night Three for UEZ Business Training Series- Business Planning Workshop
DESCRIPTION:Are you ready to transform your entrepreneurial dreams into reality? We’re thrilled to present an exclusive series of five workshops designed to catapult your business acumen to new heights. Come and make lasting relationships with local business owners and the Bridgeton UEZ. Join us and let 2025 be the year you turn your business aspirations into achievements! \n4/17/25 6-8PM (ESP) Turning Your Hobby into a Business\n5/29/25 6-8PM Digital Marketing\n6/26/25 6-8PM Business Planning Workshop\n9/24/25 6-8PM The Art of Networking\n10/30/25 6-8PM Protecting Your Business: Navigating Commerce Insurance \nHosted in collaboration with the Bridgeton Urban Enterprise Zone (UEZ)\nhttps://www.cityofbridgetonnj.gov/179/Urban-Enterprise-Zone \n\n\n\n\n\n\n\n\n\n\n\n\n\n\nRegister Today!
URL:https://laeda.com/event/in-person-night-three-for-business-training-series-business-planning-workshop/
LOCATION:The Sheppard House\, 31 W Commerce Street\, Bridgeton\, NJ\, 08302\, United States
CATEGORIES:Multi-Unit Series
ATTACH;FMTTYPE=image/png:https://laeda.com/wp-content/uploads/2025/03/unnamed-e1754337422376.png
GEO:39.4296619;-75.2372181
X-APPLE-STRUCTURED-LOCATION;VALUE=URI;X-ADDRESS=The Sheppard House 31 W Commerce Street Bridgeton NJ 08302 United States;X-APPLE-RADIUS=500;X-TITLE=31 W Commerce Street:geo:-75.2372181,39.4296619
END:VEVENT
END:VCALENDAR