BEGIN:VCALENDAR
VERSION:2.0
PRODID:-//LAEDA - ECPv6.15.20//NONSGML v1.0//EN
CALSCALE:GREGORIAN
METHOD:PUBLISH
X-ORIGINAL-URL:https://laeda.com
X-WR-CALDESC:Events for LAEDA
REFRESH-INTERVAL;VALUE=DURATION:PT1H
X-Robots-Tag:noindex
X-PUBLISHED-TTL:PT1H
BEGIN:VTIMEZONE
TZID:America/New_York
BEGIN:DAYLIGHT
TZOFFSETFROM:-0500
TZOFFSETTO:-0400
TZNAME:EDT
DTSTART:20240310T070000
END:DAYLIGHT
BEGIN:STANDARD
TZOFFSETFROM:-0400
TZOFFSETTO:-0500
TZNAME:EST
DTSTART:20241103T060000
END:STANDARD
BEGIN:DAYLIGHT
TZOFFSETFROM:-0500
TZOFFSETTO:-0400
TZNAME:EDT
DTSTART:20250309T070000
END:DAYLIGHT
BEGIN:STANDARD
TZOFFSETFROM:-0400
TZOFFSETTO:-0500
TZNAME:EST
DTSTART:20251102T060000
END:STANDARD
BEGIN:DAYLIGHT
TZOFFSETFROM:-0500
TZOFFSETTO:-0400
TZNAME:EDT
DTSTART:20260308T070000
END:DAYLIGHT
BEGIN:STANDARD
TZOFFSETFROM:-0400
TZOFFSETTO:-0500
TZNAME:EST
DTSTART:20261101T060000
END:STANDARD
END:VTIMEZONE
BEGIN:VEVENT
DTSTART;TZID=America/New_York:20250403T180000
DTEND;TZID=America/New_York:20250403T203000
DTSTAMP:20260421T214630
CREATED:20241204T184627Z
LAST-MODIFIED:20250224T211348Z
UID:10000179-1743703200-1743712200@laeda.com
SUMMARY:In Person: Turning Your Hobby Into a Business Series Unit 4- Money\, Banking & Credit
DESCRIPTION:Whether it’s seen as an opportunity or a problem\, money is needed by all businesses to run. As a business owner\, you need to know how to use money in ways that help you and not hurt you. In Session 4\, we will cover \n•    Simple budgeting to help you maximize saving and manage cash flow\n•    How and why to keep your personal spending separate from all business-related spending\n•    Why\, as a small business\, you want to plan to manage your money through a bank and how to choose the best one for your business\n•    The role credit plays in guaranteeing your business’ future growth and success\n\n\nRemaining sessions in our multi-session course.\n\nUnit 4- Money\, Banking & Credit\nUnit 5- Business Administration & Bookkeeping\nUnit 6- Pitch Competition & Last Day\n\nWe recommend that you attend all 6 seminars in the series to gain the most benefit. Those who attend at least 4 out of 6 seminars will receive a Certificate of\n\n Completion.\n\n\n\n\n\n\n\n\n\n\n\n\n\n\n\nRegister Today!
URL:https://laeda.com/event/in-person-turning-your-hobby-into-a-business-series-unit-4-money-banking-credit/
LOCATION:St. Joseph’s Carpenter Society\, 2912 Federal Street\, Camden\, 08105\, United States
CATEGORIES:Multi-Unit Series
ATTACH;FMTTYPE=image/png:https://laeda.com/wp-content/uploads/2024/12/THB-Unit-4-Money-Banking-Credit-image-e1733435221270.png
GEO:39.9475013;-75.0825957
X-APPLE-STRUCTURED-LOCATION;VALUE=URI;X-ADDRESS=St. Joseph’s Carpenter Society 2912 Federal Street Camden 08105 United States;X-APPLE-RADIUS=500;X-TITLE=2912 Federal Street:geo:-75.0825957,39.9475013
END:VEVENT
BEGIN:VEVENT
DTSTART;TZID=America/New_York:20250410T180000
DTEND;TZID=America/New_York:20250410T203000
DTSTAMP:20260421T214630
CREATED:20241204T185203Z
LAST-MODIFIED:20250224T211430Z
UID:10000180-1744308000-1744317000@laeda.com
SUMMARY:In Person: Turning Your Hobby Into a Business Series Unit 5- Business Administration & Bookkeeping
DESCRIPTION:Committing to keeping accurate records of all sales and expenses is the foundation for ensuring your business’ future success. Written transactions serve as a documented history of your business’ daily performance. Moreover\, these records are then combined at key moments of each year to present an overall picture of your business’ financial health. This session is about grounding you in these record-keeping practices and teaching you how to use your records as a tool to make future decisions about your business. Examples of what we cover include: teaching.   \n•    A simple system to record your transactions\n•    How to create basic financial statements that will help you understand the health of your business\n•    How to determine sales tax collection obligation\n•    How to include business’ income & expenses on your tax return\n\n\nRemaining sessions in our multi-session course.\n\nUnit 6- Pitch Competition & Last Day\n\nWe recommend that you attend all 6 seminars in the series to gain the most benefit. Those who attend at least 4 out of 6 seminars will receive a Certificate of\n\n Completion.\n\n\n\n\n\n\n\n\n\n\n\n\n\n\n\nRegister Today!
URL:https://laeda.com/event/in-person-turning-your-hobby-into-a-business-series-unit-5-business-administration-bookkeeping/
LOCATION:St. Joseph’s Carpenter Society\, 2912 Federal Street\, Camden\, 08105\, United States
CATEGORIES:Multi-Unit Series
ATTACH;FMTTYPE=image/png:https://laeda.com/wp-content/uploads/2024/12/THB-Unit-5-Business-Admin-Bookkeeping-e1733435355225.png
GEO:39.9475013;-75.0825957
X-APPLE-STRUCTURED-LOCATION;VALUE=URI;X-ADDRESS=St. Joseph’s Carpenter Society 2912 Federal Street Camden 08105 United States;X-APPLE-RADIUS=500;X-TITLE=2912 Federal Street:geo:-75.0825957,39.9475013
END:VEVENT
BEGIN:VEVENT
DTSTART;TZID=America/New_York:20250417T180000
DTEND;TZID=America/New_York:20250417T200000
DTSTAMP:20260421T214630
CREATED:20250307T204701Z
LAST-MODIFIED:20250409T153416Z
UID:10000192-1744912800-1744920000@laeda.com
SUMMARY:In-Person: Night One for UEZ Business Training Series- Turning Your Hobby into a Business 
DESCRIPTION:Are you ready to transform your entrepreneurial dreams into reality? We’re thrilled to present an exclusive series of five workshops designed to catapult your business acumen to new heights. Come and make lasting relationships with local business owners and the Bridgeton UEZ. Join us and let 2025 be the year you turn your business aspirations into achievements! \n4/17/25 6-8PM (ESP) Turning Your Hobby into a Business\n5/29/25 6-8PM Digital Marketing\n6/26/25 6-8PM Business Planning Workshop\n9/24/25 6-8PM The Art of Networking\n10/30/25 6-8PM Protecting Your Business: Navigating Commerce Insurance \nHosted in collaboration with the Bridgeton Urban Enterprise Zone (UEZ)\nhttps://www.cityofbridgetonnj.gov/179/Urban-Enterprise-Zone \n\n\n\n\n\n\n\n\n\n\n\n\n\n\nRegister Today!
URL:https://laeda.com/event/in-person-2025-laeda-x-bridgeton-uez-business-training-series/
LOCATION:The Sheppard House\, 31 W Commerce Street\, Bridgeton\, NJ\, 08302\, United States
CATEGORIES:Multi-Unit Series
ATTACH;FMTTYPE=image/png:https://laeda.com/wp-content/uploads/2025/03/unnamed-e1754337422376.png
GEO:39.4296619;-75.2372181
X-APPLE-STRUCTURED-LOCATION;VALUE=URI;X-ADDRESS=The Sheppard House 31 W Commerce Street Bridgeton NJ 08302 United States;X-APPLE-RADIUS=500;X-TITLE=31 W Commerce Street:geo:-75.2372181,39.4296619
END:VEVENT
BEGIN:VEVENT
DTSTART;TZID=America/New_York:20250417T180000
DTEND;TZID=America/New_York:20250417T203000
DTSTAMP:20260421T214630
CREATED:20241204T185554Z
LAST-MODIFIED:20250225T214102Z
UID:10000181-1744912800-1744921800@laeda.com
SUMMARY:In Person: Turning Your Hobby Into a Business Series Unit 6- Pitch Competition & Last Day
DESCRIPTION:Session Six is the last session of LAEDA’s Turning Your Hobby into a Business\, and the class where you get to showcase your talent! Applying everything learned in the previous five sessions\, each student gets the opportunity to pitch their business. The pitch is a “show and tell” way to both market your product or service as well as sell to your fellow classmates! It is a culmination of the THB course. However\, LAEDA also sees it as a beginning of the next phase of your entrepreneurial journey which we look forward to accompanying you on through personalized counseling services and access to further training.  \n\n\n\n\n\n\n\n\n\n\n\n\n\n\nRegister Today!
URL:https://laeda.com/event/in-person-turning-your-hobby-into-a-business-series-unit-6-pitch-competition-last-day/
LOCATION:St. Joseph’s Carpenter Society\, 2912 Federal Street\, Camden\, 08105\, United States
CATEGORIES:Multi-Unit Series
ATTACH;FMTTYPE=image/png:https://laeda.com/wp-content/uploads/2024/12/THB-Unit-6-Pitch-Competition-e1733496054220.png
GEO:39.9475013;-75.0825957
X-APPLE-STRUCTURED-LOCATION;VALUE=URI;X-ADDRESS=St. Joseph’s Carpenter Society 2912 Federal Street Camden 08105 United States;X-APPLE-RADIUS=500;X-TITLE=2912 Federal Street:geo:-75.0825957,39.9475013
END:VEVENT
END:VCALENDAR