BEGIN:VCALENDAR
VERSION:2.0
PRODID:-//LAEDA - ECPv6.15.20//NONSGML v1.0//EN
CALSCALE:GREGORIAN
METHOD:PUBLISH
X-ORIGINAL-URL:https://laeda.com
X-WR-CALDESC:Events for LAEDA
REFRESH-INTERVAL;VALUE=DURATION:PT1H
X-Robots-Tag:noindex
X-PUBLISHED-TTL:PT1H
BEGIN:VTIMEZONE
TZID:America/New_York
BEGIN:DAYLIGHT
TZOFFSETFROM:-0500
TZOFFSETTO:-0400
TZNAME:EDT
DTSTART:20240310T070000
END:DAYLIGHT
BEGIN:STANDARD
TZOFFSETFROM:-0400
TZOFFSETTO:-0500
TZNAME:EST
DTSTART:20241103T060000
END:STANDARD
BEGIN:DAYLIGHT
TZOFFSETFROM:-0500
TZOFFSETTO:-0400
TZNAME:EDT
DTSTART:20250309T070000
END:DAYLIGHT
BEGIN:STANDARD
TZOFFSETFROM:-0400
TZOFFSETTO:-0500
TZNAME:EST
DTSTART:20251102T060000
END:STANDARD
BEGIN:DAYLIGHT
TZOFFSETFROM:-0500
TZOFFSETTO:-0400
TZNAME:EDT
DTSTART:20260308T070000
END:DAYLIGHT
BEGIN:STANDARD
TZOFFSETFROM:-0400
TZOFFSETTO:-0500
TZNAME:EST
DTSTART:20261101T060000
END:STANDARD
END:VTIMEZONE
BEGIN:VEVENT
DTSTART;TZID=America/New_York:20250204T180000
DTEND;TZID=America/New_York:20250204T203000
DTSTAMP:20260422T003933
CREATED:20241205T145252Z
LAST-MODIFIED:20250203T184437Z
UID:10000184-1738692000-1738701000@laeda.com
SUMMARY:Virtual Series: Quick Start Series Night 3: Creating a Plan of Action- Business Plan II
DESCRIPTION:Unit 3 of the Quick Start Series continues the conversation around creating a business plan.  We will continuing covering the business plan -Creating a Plan of Action- Business Plan II.  What are your true operating costs\, what are you really selling\, do you have a personnel plan?  You’ll be amazed by what you’ll learn about your business by answering these questions and more. This workshop takes you through the business plan and what you need to know about your business to be successful. \nDuring this seminar you’ll learn: \n•The importance of a business plan\n•How to set short-term and long-term goals\n•Key questions to answer to get a solid grip on your business\n\n\n\n\n\n\n\nWe recommend that you attend all 5 seminars in the series to gain the most benefit. Those who attend at least 3 of 5 seminars will receive a Certificate of Completion. \n\n\n\n\n\n\n\n\n\n\n\n\n\n\n\n\n\n\n\n\n\n\n\n\n\n\n\n\n\n\n\n\n\n\n\n\n\n\n\n\n\n\n\n\n\n\n\n\nRegister Today!
URL:https://laeda.com/event/virtual-series-quick-start-series-night-3-creating-a-plan-of-action-business-plan-ii/
LOCATION:Virtual Online
CATEGORIES:Multi-Unit Series
ATTACH;FMTTYPE=image/png:https://laeda.com/wp-content/uploads/2024/12/QSS-Unit-2-3-Business-Plan--e1734025723805.png
END:VEVENT
BEGIN:VEVENT
DTSTART;TZID=America/New_York:20250213T180000
DTEND;TZID=America/New_York:20250213T203000
DTSTAMP:20260422T003933
CREATED:20241205T145909Z
LAST-MODIFIED:20241212T181847Z
UID:10000185-1739469600-1739478600@laeda.com
SUMMARY:Virtual Series: Quick Start Series Night 4: Getting the Word Out- Marketing Your Business
DESCRIPTION:Unit 4 of the Quick Start Series is focused on understanding your customer and how your product or services meets their needs. Are your marketing efforts communicating your message to your customers? Are you even fishing in the right pond? Marketing Your Business takes you through the basics of marketing\, developing a marketing message and creating a marketing plan that will attract the customers you really want. \nDuring this seminar you’ll learn: \n•The importance of a Marketing Plan\n•Best practices to identifying your target market and ideal client\n•How to communicate the features and benefits of your products and services and much more\n\n\n\n\n\n\n\n\nWe recommend that you attend all 5 seminars in the series to gain the most benefit. Those who attend at least 3 of 5 seminars will receive a Certificate of Completion. \n\n\n\n\n\n\n\n\n\n\n\n\n\n\n\n\n\n\n\n\n\n\n\n\n\n\n\n\n\nRegister Today!
URL:https://laeda.com/event/virtual-series-quick-start-series-night-4-getting-the-word-out-marketing-your-business/
LOCATION:Virtual Online
CATEGORIES:Multi-Unit Series
ATTACH;FMTTYPE=image/png:https://laeda.com/wp-content/uploads/2024/12/QSS-Unit-4-Marketing-Your-Business-e1734027394154.png
END:VEVENT
BEGIN:VEVENT
DTSTART;TZID=America/New_York:20250220T180000
DTEND;TZID=America/New_York:20250220T203000
DTSTAMP:20260422T003933
CREATED:20241205T150445Z
LAST-MODIFIED:20241212T182500Z
UID:10000186-1740074400-1740083400@laeda.com
SUMMARY:Virtual Series: Quick Start Series Night 5: Credit Management for Entrepreneurs & Certificates
DESCRIPTION:Unit 5 of the Quick Start Series focuses on the role personal credit plays in starting and growing a business.  Having good credit can mean the difference between success or failure for a business. Without it you can’t sign a lease\, get terms with your suppliers and of course get a loan. \nDuring this seminar you’ll learn: \n•How your FICO score is calculated\n•What “events” affect your credit\n•Strategies you can use today to start fixing your credit\n\n\n\n\n\n\n\nFor those who have attended at least 3 of the 5 units of the Quick Start Series\, LAEDA will present them with a Certificate of Completion. \n\n\n\n\n\n\n\n\n\n\n\n\n\n\n\n\n\n\n\n\n\n\n\n\n\n\n\n\n\n\n\n\n\n\n\n\n\n\n\n\nRegister Today!
URL:https://laeda.com/event/virtual-series-quick-start-series-night-5-credit-management-for-entrepreneurs-certificates/
LOCATION:Virtual Online
CATEGORIES:Multi-Unit Series
ATTACH;FMTTYPE=image/png:https://laeda.com/wp-content/uploads/2024/12/QSS-Unit-5-Credit-Management-e1734027887451.png
END:VEVENT
END:VCALENDAR