BEGIN:VCALENDAR
VERSION:2.0
PRODID:-//LAEDA - ECPv6.15.20//NONSGML v1.0//EN
CALSCALE:GREGORIAN
METHOD:PUBLISH
X-ORIGINAL-URL:https://laeda.com
X-WR-CALDESC:Events for LAEDA
REFRESH-INTERVAL;VALUE=DURATION:PT1H
X-Robots-Tag:noindex
X-PUBLISHED-TTL:PT1H
BEGIN:VTIMEZONE
TZID:America/New_York
BEGIN:DAYLIGHT
TZOFFSETFROM:-0500
TZOFFSETTO:-0400
TZNAME:EDT
DTSTART:20240310T070000
END:DAYLIGHT
BEGIN:STANDARD
TZOFFSETFROM:-0400
TZOFFSETTO:-0500
TZNAME:EST
DTSTART:20241103T060000
END:STANDARD
BEGIN:DAYLIGHT
TZOFFSETFROM:-0500
TZOFFSETTO:-0400
TZNAME:EDT
DTSTART:20250309T070000
END:DAYLIGHT
BEGIN:STANDARD
TZOFFSETFROM:-0400
TZOFFSETTO:-0500
TZNAME:EST
DTSTART:20251102T060000
END:STANDARD
BEGIN:DAYLIGHT
TZOFFSETFROM:-0500
TZOFFSETTO:-0400
TZNAME:EDT
DTSTART:20260308T070000
END:DAYLIGHT
BEGIN:STANDARD
TZOFFSETFROM:-0400
TZOFFSETTO:-0500
TZNAME:EST
DTSTART:20261101T060000
END:STANDARD
END:VTIMEZONE
BEGIN:VEVENT
DTSTART;TZID=America/New_York:20250123T180000
DTEND;TZID=America/New_York:20250123T203000
DTSTAMP:20260422T020418
CREATED:20241205T144048Z
LAST-MODIFIED:20241212T164323Z
UID:10000182-1737655200-1737664200@laeda.com
SUMMARY:Virtual Series: Quick Start Series Night 1: ABC's of Starting a Small Business
DESCRIPTION:The LAEDA Quick Start Series is a 5-part series that provides a great opportunity for individuals who wish to learn how to start a business and for more experienced business owners wishing to learn best practices in operating a business. Topics included in the series: Writing a Business Plan\, Marketing Your Business and Credit Management. This event is free but you will need to register for all 5 classes. \nOur first night\, we will cover The ABC’s of Starting a Small Business. During this seminar you’ll learn the ins and outs of starting and operating a small business\, the challenges you’ll face and the resources available to help you get started and grow! \nTopics Covered Will Include: \n•How to Start or Organize a Business Legally\n•Practical Steps for Launching or Growing a Business\n•Why a Business Plan is the Key to Success\n•What it Takes to Secure a Business Loan\n\nWe recommend that you attend all 5 seminars in the series to gain the most benefit. Those who attend at least 3 of 5 seminars will receive a Certificate of Completion. \n\n\n\n\n\n\n\n\n\n\n\n\n\n\nRegister Today!
URL:https://laeda.com/event/virtual-series-quick-start-series-night-1-abcs-of-starting-a-small-business/
LOCATION:Virtual Online
CATEGORIES:Multi-Unit Series
ATTACH;FMTTYPE=image/png:https://laeda.com/wp-content/uploads/2024/12/QSS-Unit-1-ABCs--e1734021789162.png
END:VEVENT
BEGIN:VEVENT
DTSTART;TZID=America/New_York:20250130T180000
DTEND;TZID=America/New_York:20250130T203000
DTSTAMP:20260422T020418
CREATED:20241205T144725Z
LAST-MODIFIED:20241212T174906Z
UID:10000183-1738260000-1738269000@laeda.com
SUMMARY:Virtual Series: Quick Start Series Night 2: Creating a Plan of Action- Business Plan I
DESCRIPTION:Unit 2 of the Quick Start Series is focused on the importance of a business plan.  Whether you’re a seasoned business owner or just starting out\, having a Business Plan to guide your efforts is priceless.  Business Plan I outlines the various parts of the business plan and its role in applying for financing to expand an existing business or to start a new one. \nNight two\, we will cover Creating a Plan of Action- Business Plan I. During this seminar you’ll learn the importance of a business plan and putting short-term and long-term goals and helping you come up with a plan  to help you achieve your business goals. \nTopics Covered Will Include: \n•How to Start or Organize a Business Legally\n•Practical Steps for Launching or Growing a Business\n•Why a Business Plan is the Key to Success\n•What it Takes to Secure a Business Loan\n\n\n\n\n\n\n\n\nWe recommend that you attend all 5 seminars in the series to gain the most benefit. Those who attend at least 3 of 5 seminars will receive a Certificate of Completion. \n\n\n\n\n\n\n\n\n\n\n\n\n\n\n\n\n\n\n\n\n\n\n\n\n\n\n\n\n\n\n\n\n\n\n\n\n\n\n\n\nRegister Today!
URL:https://laeda.com/event/virtual-series-quick-start-series-night-2-creating-a-plan-of-action-business-plan-i/
LOCATION:Virtual Online
CATEGORIES:Multi-Unit Series
ATTACH;FMTTYPE=image/png:https://laeda.com/wp-content/uploads/2024/12/QSS-Unit-2-3-Business-Plan--e1734025723805.png
END:VEVENT
END:VCALENDAR